BEGIN:VCALENDAR
VERSION:2.0
PRODID:icalendar-ruby
CALSCALE:GREGORIAN
METHOD:PUBLISH
X-WR-CALNAME:Warren Curling Club: Draws
BEGIN:VTIMEZONE
TZID:America/Chicago
BEGIN:DAYLIGHT
DTSTART:20260308T030000
TZOFFSETFROM:-0600
TZOFFSETTO:-0500
RRULE:FREQ=YEARLY;BYDAY=2SU;BYMONTH=3
TZNAME:CDT
END:DAYLIGHT
BEGIN:STANDARD
DTSTART:20261101T010000
TZOFFSETFROM:-0500
TZOFFSETTO:-0600
RRULE:FREQ=YEARLY;BYDAY=1SU;BYMONTH=11
TZNAME:CST
END:STANDARD
END:VTIMEZONE
BEGIN:VEVENT
DTSTAMP:20260422T012303Z
UID:drawid:196899
DTSTART:20251114T193000
DTEND:20251114T213000
DESCRIPTION:Glace 1: Goddard v Ashmore\, Glace 2: Ginter v Duncan\, Glace 3
 : Malfait v Arsenault
LOCATION:153 MacDonald Ave\, Warren\, R0C 3E0\, MB\, CA
SEQUENCE:1776820983
SUMMARY:Friday Night Mixed Open Fun
URL;VALUE=URI:https://warren.curling.io/fr/events/26201-friday-night-mixed-
 open-fun/widget
END:VEVENT
BEGIN:VEVENT
DTSTAMP:20260422T012303Z
UID:drawid:196900
DTSTART:20251121T193000
DTEND:20251121T213000
DESCRIPTION:Glace 1: Ginter v Arsenault\, Glace 2: Malfait v Lecoq\, Glace 
 3: Goddard v Stevenson
LOCATION:153 MacDonald Ave\, Warren\, R0C 3E0\, MB\, CA
SEQUENCE:1776820983
SUMMARY:Friday Night Mixed Open Fun
URL;VALUE=URI:https://warren.curling.io/fr/events/26201-friday-night-mixed-
 open-fun/widget
END:VEVENT
BEGIN:VEVENT
DTSTAMP:20260422T012303Z
UID:drawid:196901
DTSTART:20251205T193000
DTEND:20251205T213000
DESCRIPTION:Glace 1: Ashmore v Ginter\, Glace 2: Goddard v Duncan\, Glace 3
 : Malfait v Stevenson
LOCATION:153 MacDonald Ave\, Warren\, R0C 3E0\, MB\, CA
SEQUENCE:1776820983
SUMMARY:Friday Night Mixed Open Fun
URL;VALUE=URI:https://warren.curling.io/fr/events/26201-friday-night-mixed-
 open-fun/widget
END:VEVENT
BEGIN:VEVENT
DTSTAMP:20260422T012303Z
UID:drawid:196902
DTSTART:20251212T193000
DTEND:20251212T213000
DESCRIPTION:Glace 1: Duncan v Malfait\, Glace 2: Arsenault v Stevenson\, Gl
 ace 3: Ashmore v Lecoq
LOCATION:153 MacDonald Ave\, Warren\, R0C 3E0\, MB\, CA
SEQUENCE:1776820983
SUMMARY:Friday Night Mixed Open Fun
URL;VALUE=URI:https://warren.curling.io/fr/events/26201-friday-night-mixed-
 open-fun/widget
END:VEVENT
BEGIN:VEVENT
DTSTAMP:20260422T012303Z
UID:drawid:196903
DTSTART:20260102T193000
DTEND:20260102T213000
DESCRIPTION:Glace 1: Goddard v Lecoq\, Glace 2: Ashmore v Stevenson\, Glace
  3: Ginter v Malfait
LOCATION:153 MacDonald Ave\, Warren\, R0C 3E0\, MB\, CA
SEQUENCE:1776820983
SUMMARY:Friday Night Mixed Open Fun
URL;VALUE=URI:https://warren.curling.io/fr/events/26201-friday-night-mixed-
 open-fun/widget
END:VEVENT
BEGIN:VEVENT
DTSTAMP:20260422T012303Z
UID:drawid:196904
DTSTART:20260109T193000
DTEND:20260109T213000
DESCRIPTION:Glace 1: Goddard v Ginter\, Glace 2: Ashmore v Duncan\, Glace 3
 : Arsenault v Lecoq
LOCATION:153 MacDonald Ave\, Warren\, R0C 3E0\, MB\, CA
SEQUENCE:1776820983
SUMMARY:Friday Night Mixed Open Fun
URL;VALUE=URI:https://warren.curling.io/fr/events/26201-friday-night-mixed-
 open-fun/widget
END:VEVENT
BEGIN:VEVENT
DTSTAMP:20260422T012303Z
UID:drawid:196905
DTSTART:20260116T193000
DTEND:20260116T213000
DESCRIPTION:Glace 2: Stevenson v Lecoq\, Glace 3: Ashmore v Malfait
LOCATION:153 MacDonald Ave\, Warren\, R0C 3E0\, MB\, CA
SEQUENCE:1776820983
SUMMARY:Friday Night Mixed Open Fun
URL;VALUE=URI:https://warren.curling.io/fr/events/26201-friday-night-mixed-
 open-fun/widget
END:VEVENT
BEGIN:VEVENT
DTSTAMP:20260422T012303Z
UID:drawid:196906
DTSTART:20260123T193000
DTEND:20260123T213000
DESCRIPTION:Glace 1: Duncan v Stevenson\, Glace 2: Ginter v Lecoq\, Glace 3
 : Goddard v Arsenault
LOCATION:153 MacDonald Ave\, Warren\, R0C 3E0\, MB\, CA
SEQUENCE:1776820983
SUMMARY:Friday Night Mixed Open Fun
URL;VALUE=URI:https://warren.curling.io/fr/events/26201-friday-night-mixed-
 open-fun/widget
END:VEVENT
BEGIN:VEVENT
DTSTAMP:20260422T012303Z
UID:drawid:196907
DTSTART:20260130T193000
DTEND:20260130T213000
DESCRIPTION:Glace 1: Ashmore v Arsenault\, Glace 2: Goddard v Malfait\, Gla
 ce 3: Duncan v Lecoq
LOCATION:153 MacDonald Ave\, Warren\, R0C 3E0\, MB\, CA
SEQUENCE:1776820983
SUMMARY:Friday Night Mixed Open Fun
URL;VALUE=URI:https://warren.curling.io/fr/events/26201-friday-night-mixed-
 open-fun/widget
END:VEVENT
BEGIN:VEVENT
DTSTAMP:20260422T012303Z
UID:drawid:196908
DTSTART:20260206T193000
DTEND:20260206T213000
DESCRIPTION:Glace 2: Duncan v Arsenault\, Glace 3: Ginter v Stevenson
LOCATION:153 MacDonald Ave\, Warren\, R0C 3E0\, MB\, CA
SEQUENCE:1776820983
SUMMARY:Friday Night Mixed Open Fun
URL;VALUE=URI:https://warren.curling.io/fr/events/26201-friday-night-mixed-
 open-fun/widget
END:VEVENT
END:VCALENDAR
